BEGIN:VCALENDAR
VERSION:2.0
PRODID:-//Rheinbabenschule - ECPv6.15.17.1//NONSGML v1.0//EN
CALSCALE:GREGORIAN
METHOD:PUBLISH
X-WR-CALNAME:Rheinbabenschule
X-ORIGINAL-URL:https://rheinbabenschule-bottrop.de
X-WR-CALDESC:Veranstaltungen für Rheinbabenschule
REFRESH-INTERVAL;VALUE=DURATION:PT1H
X-Robots-Tag:noindex
X-PUBLISHED-TTL:PT1H
BEGIN:VTIMEZONE
TZID:Europe/Berlin
BEGIN:DAYLIGHT
TZOFFSETFROM:+0100
TZOFFSETTO:+0200
TZNAME:CEST
DTSTART:20240331T010000
END:DAYLIGHT
BEGIN:STANDARD
TZOFFSETFROM:+0200
TZOFFSETTO:+0100
TZNAME:CET
DTSTART:20241027T010000
END:STANDARD
BEGIN:DAYLIGHT
TZOFFSETFROM:+0100
TZOFFSETTO:+0200
TZNAME:CEST
DTSTART:20250330T010000
END:DAYLIGHT
BEGIN:STANDARD
TZOFFSETFROM:+0200
TZOFFSETTO:+0100
TZNAME:CET
DTSTART:20251026T010000
END:STANDARD
BEGIN:DAYLIGHT
TZOFFSETFROM:+0100
TZOFFSETTO:+0200
TZNAME:CEST
DTSTART:20260329T010000
END:DAYLIGHT
BEGIN:STANDARD
TZOFFSETFROM:+0200
TZOFFSETTO:+0100
TZNAME:CET
DTSTART:20261025T010000
END:STANDARD
END:VTIMEZONE
BEGIN:VEVENT
DTSTART;TZID=Europe/Berlin:20250828T080000
DTEND;TZID=Europe/Berlin:20250828T104500
DTSTAMP:20260419T222622
CREATED:20240708T112607Z
LAST-MODIFIED:20250801T102019Z
UID:5886-1756368000-1756377900@rheinbabenschule-bottrop.de
SUMMARY:Einschulung der Erstklässler
DESCRIPTION:Bild von Thomas auf pixabay \nWir freuen uns\, heute unsere neuen Lernanfänger begrüßen zu dürfen. \nTagesplan:\n  \nab ca. 8:00 Uhr\nBegrüßung in der Gnadenkirche\nGladbeckerstraße 258\n  \nab ca. 9:15 Uhr\nEinschulungsfest auf dem Schulhof\n  \nab 10:00 Uhr\nDie erste Unterrichtsstunde\nbis ca. 10:45 Uhr.\n 
URL:https://rheinbabenschule-bottrop.de/event/einschulung-der-erstklaessler/
END:VEVENT
END:VCALENDAR