BEGIN:VCALENDAR
VERSION:2.0
PRODID:-//Rheinbabenschule - ECPv6.15.17.1//NONSGML v1.0//EN
CALSCALE:GREGORIAN
METHOD:PUBLISH
X-ORIGINAL-URL:https://rheinbabenschule-bottrop.de
X-WR-CALDESC:Veranstaltungen für Rheinbabenschule
REFRESH-INTERVAL;VALUE=DURATION:PT1H
X-Robots-Tag:noindex
X-PUBLISHED-TTL:PT1H
BEGIN:VTIMEZONE
TZID:Europe/Berlin
BEGIN:DAYLIGHT
TZOFFSETFROM:+0100
TZOFFSETTO:+0200
TZNAME:CEST
DTSTART:20240331T010000
END:DAYLIGHT
BEGIN:STANDARD
TZOFFSETFROM:+0200
TZOFFSETTO:+0100
TZNAME:CET
DTSTART:20241027T010000
END:STANDARD
BEGIN:DAYLIGHT
TZOFFSETFROM:+0100
TZOFFSETTO:+0200
TZNAME:CEST
DTSTART:20250330T010000
END:DAYLIGHT
BEGIN:STANDARD
TZOFFSETFROM:+0200
TZOFFSETTO:+0100
TZNAME:CET
DTSTART:20251026T010000
END:STANDARD
BEGIN:DAYLIGHT
TZOFFSETFROM:+0100
TZOFFSETTO:+0200
TZNAME:CEST
DTSTART:20260329T010000
END:DAYLIGHT
BEGIN:STANDARD
TZOFFSETFROM:+0200
TZOFFSETTO:+0100
TZNAME:CET
DTSTART:20261025T010000
END:STANDARD
END:VTIMEZONE
BEGIN:VEVENT
DTSTART;TZID=Europe/Berlin:20250919T153000
DTEND;TZID=Europe/Berlin:20250919T173000
DTSTAMP:20260419T205831
CREATED:20210302T112614Z
LAST-MODIFIED:20250801T130147Z
UID:3438-1758295800-1758303000@rheinbabenschule-bottrop.de
SUMMARY:Tag der offenen Tür 2025
DESCRIPTION:  \n \nLiebe Eltern zukünftiger Schulkinder\, liebe Kinder!\n  \nAm Freitag\, 19.09.2025 von 15:30 – 17:30 Uhr findet unser Tag der offenen Tür statt. \nWir laden Sie herzlich ein\, uns hier in der Schule kennenzulernen. Streifen Sie durch die Klassenräume oder lassen Sie sich durch unsere Schule führen. Wir stehen Ihnen gerne mit Rat und Tat zur Seite. Kommen Sie doch vorbei und gewinnen einen ersten Eindruck von unserer Arbeit. \nFolgende Angebote können Sie wahrscheinlich erwarten: \n\nWerken\nArbeit an dem iPad\nRobotik für die Grundschule\nKennenlernen des 1. Schuljahres\nMaterialausstellung zum Fach Englisch\nExperimentieren und Bauen zum Fach Sachunterricht\n\n  \nWir freuen uns auf Sie!
URL:https://rheinbabenschule-bottrop.de/event/tag-der-offenen-tuer/
END:VEVENT
END:VCALENDAR