BEGIN:VCALENDAR
VERSION:2.0
PRODID:-//Rheinbabenschule - ECPv6.15.17.1//NONSGML v1.0//EN
CALSCALE:GREGORIAN
METHOD:PUBLISH
X-ORIGINAL-URL:https://rheinbabenschule-bottrop.de
X-WR-CALDESC:Veranstaltungen für Rheinbabenschule
REFRESH-INTERVAL;VALUE=DURATION:PT1H
X-Robots-Tag:noindex
X-PUBLISHED-TTL:PT1H
BEGIN:VTIMEZONE
TZID:Europe/Berlin
BEGIN:DAYLIGHT
TZOFFSETFROM:+0100
TZOFFSETTO:+0200
TZNAME:CEST
DTSTART:20240331T010000
END:DAYLIGHT
BEGIN:STANDARD
TZOFFSETFROM:+0200
TZOFFSETTO:+0100
TZNAME:CET
DTSTART:20241027T010000
END:STANDARD
BEGIN:DAYLIGHT
TZOFFSETFROM:+0100
TZOFFSETTO:+0200
TZNAME:CEST
DTSTART:20250330T010000
END:DAYLIGHT
BEGIN:STANDARD
TZOFFSETFROM:+0200
TZOFFSETTO:+0100
TZNAME:CET
DTSTART:20251026T010000
END:STANDARD
BEGIN:DAYLIGHT
TZOFFSETFROM:+0100
TZOFFSETTO:+0200
TZNAME:CEST
DTSTART:20260329T010000
END:DAYLIGHT
BEGIN:STANDARD
TZOFFSETFROM:+0200
TZOFFSETTO:+0100
TZNAME:CET
DTSTART:20261025T010000
END:STANDARD
END:VTIMEZONE
BEGIN:VEVENT
DTSTART;TZID=Europe/Berlin:20251120T160000
DTEND;TZID=Europe/Berlin:20251120T190000
DTSTAMP:20260419T190926
CREATED:20180517T165203Z
LAST-MODIFIED:20250801T123543Z
UID:1622-1763654400-1763665200@rheinbabenschule-bottrop.de
SUMMARY:Adventsbasar 2025
DESCRIPTION:Besuchen Sie uns und tauchen Sie ein\nin die vorweihnachtliche Zeit in der Rheinbabenschule.\n  \nJedes Jahr zur Adventszeit findet an unserer Schule ein Adventsbasar statt. \nIn gemütlicher Atmosphäre finden Sie an den Verkaufsständen kleine und größere Geschenkartikel sowie weihnachtliche Deko für Ihr Zuhause. Die Schule und der Schulhof werden zu diesem Zwecke stimmungsvoll beleuchtet. \n  \nWir bieten Mitmachaktionen für Groß und Klein und weihnachtliche Musik\, Tanz- und Theatervorstellungen. \nEine Cafeteria und diverse Essens- und Getränkestände sorgen für das leibliche Wohl. \n  \n  \nDer Adventsbasar findet \nam Donnerstag\, den 20. November 2025 von 16:00-19:00 Uhr statt. \nKommen Sie doch vorbei! Wir freuen uns auf Sie! \n  \n  \n 
URL:https://rheinbabenschule-bottrop.de/event/adventsbasar/
END:VEVENT
END:VCALENDAR