BEGIN:VCALENDAR
VERSION:2.0
PRODID:-//Rheinbabenschule - ECPv6.15.17.1//NONSGML v1.0//EN
CALSCALE:GREGORIAN
METHOD:PUBLISH
X-ORIGINAL-URL:https://rheinbabenschule-bottrop.de
X-WR-CALDESC:Veranstaltungen für Rheinbabenschule
REFRESH-INTERVAL;VALUE=DURATION:PT1H
X-Robots-Tag:noindex
X-PUBLISHED-TTL:PT1H
BEGIN:VTIMEZONE
TZID:Europe/Berlin
BEGIN:DAYLIGHT
TZOFFSETFROM:+0100
TZOFFSETTO:+0200
TZNAME:CEST
DTSTART:20240331T010000
END:DAYLIGHT
BEGIN:STANDARD
TZOFFSETFROM:+0200
TZOFFSETTO:+0100
TZNAME:CET
DTSTART:20241027T010000
END:STANDARD
BEGIN:DAYLIGHT
TZOFFSETFROM:+0100
TZOFFSETTO:+0200
TZNAME:CEST
DTSTART:20250330T010000
END:DAYLIGHT
BEGIN:STANDARD
TZOFFSETFROM:+0200
TZOFFSETTO:+0100
TZNAME:CET
DTSTART:20251026T010000
END:STANDARD
BEGIN:DAYLIGHT
TZOFFSETFROM:+0100
TZOFFSETTO:+0200
TZNAME:CEST
DTSTART:20260329T010000
END:DAYLIGHT
BEGIN:STANDARD
TZOFFSETFROM:+0200
TZOFFSETTO:+0100
TZNAME:CET
DTSTART:20261025T010000
END:STANDARD
END:VTIMEZONE
BEGIN:VEVENT
DTSTART;VALUE=DATE:20251209
DTEND;VALUE=DATE:20251210
DTSTAMP:20260419T162122
CREATED:20250827T063326Z
LAST-MODIFIED:20250827T063619Z
UID:6829-1765238400-1765324799@rheinbabenschule-bottrop.de
SUMMARY:Puppentheater
DESCRIPTION:Am Dienstag\, 09.12.25 kommt das Puppentheater „Petersson und Findus“ zu uns in die Schule. \nWeitere Infos finden Sie hier: \nhttps://www.figurentheater-stella.de/
URL:https://rheinbabenschule-bottrop.de/event/puppentheater/
END:VEVENT
END:VCALENDAR