BEGIN:VCALENDAR
VERSION:2.0
PRODID:-//Rheinbabenschule - ECPv6.15.17.1//NONSGML v1.0//EN
CALSCALE:GREGORIAN
METHOD:PUBLISH
X-WR-CALNAME:Rheinbabenschule
X-ORIGINAL-URL:https://rheinbabenschule-bottrop.de
X-WR-CALDESC:Veranstaltungen für Rheinbabenschule
REFRESH-INTERVAL;VALUE=DURATION:PT1H
X-Robots-Tag:noindex
X-PUBLISHED-TTL:PT1H
BEGIN:VTIMEZONE
TZID:Europe/Berlin
BEGIN:DAYLIGHT
TZOFFSETFROM:+0100
TZOFFSETTO:+0200
TZNAME:CEST
DTSTART:20250330T010000
END:DAYLIGHT
BEGIN:STANDARD
TZOFFSETFROM:+0200
TZOFFSETTO:+0100
TZNAME:CET
DTSTART:20251026T010000
END:STANDARD
BEGIN:DAYLIGHT
TZOFFSETFROM:+0100
TZOFFSETTO:+0200
TZNAME:CEST
DTSTART:20260329T010000
END:DAYLIGHT
BEGIN:STANDARD
TZOFFSETFROM:+0200
TZOFFSETTO:+0100
TZNAME:CET
DTSTART:20261025T010000
END:STANDARD
BEGIN:DAYLIGHT
TZOFFSETFROM:+0100
TZOFFSETTO:+0200
TZNAME:CEST
DTSTART:20270328T010000
END:DAYLIGHT
BEGIN:STANDARD
TZOFFSETFROM:+0200
TZOFFSETTO:+0100
TZNAME:CET
DTSTART:20271031T010000
END:STANDARD
END:VTIMEZONE
BEGIN:VEVENT
DTSTART;VALUE=DATE:20260116
DTEND;VALUE=DATE:20260117
DTSTAMP:20260419T142115
CREATED:20220808T105538Z
LAST-MODIFIED:20260114T172147Z
UID:4506-1768521600-1768607999@rheinbabenschule-bottrop.de
SUMMARY:Unterricht bis 9:30 Uhr - Lehrerausflug
DESCRIPTION:Liebe Eltern\, \nAm Freitag\, 16.01.26 findet unsere Gemeinschaftsveranstaltung des Lehrerkollegiums statt. \nDie Kinder haben an diesem Tag nur von 8:00-9:30 Uhr Unterricht.
URL:https://rheinbabenschule-bottrop.de/event/unterricht-bis-930-uhr-3/
END:VEVENT
END:VCALENDAR