BEGIN:VCALENDAR
VERSION:2.0
PRODID:-//Rheinbabenschule - ECPv6.15.17.1//NONSGML v1.0//EN
CALSCALE:GREGORIAN
METHOD:PUBLISH
X-ORIGINAL-URL:https://rheinbabenschule-bottrop.de
X-WR-CALDESC:Veranstaltungen für Rheinbabenschule
REFRESH-INTERVAL;VALUE=DURATION:PT1H
X-Robots-Tag:noindex
X-PUBLISHED-TTL:PT1H
BEGIN:VTIMEZONE
TZID:Europe/Berlin
BEGIN:DAYLIGHT
TZOFFSETFROM:+0100
TZOFFSETTO:+0200
TZNAME:CEST
DTSTART:20240331T010000
END:DAYLIGHT
BEGIN:STANDARD
TZOFFSETFROM:+0200
TZOFFSETTO:+0100
TZNAME:CET
DTSTART:20241027T010000
END:STANDARD
BEGIN:DAYLIGHT
TZOFFSETFROM:+0100
TZOFFSETTO:+0200
TZNAME:CEST
DTSTART:20250330T010000
END:DAYLIGHT
BEGIN:STANDARD
TZOFFSETFROM:+0200
TZOFFSETTO:+0100
TZNAME:CET
DTSTART:20251026T010000
END:STANDARD
BEGIN:DAYLIGHT
TZOFFSETFROM:+0100
TZOFFSETTO:+0200
TZNAME:CEST
DTSTART:20260329T010000
END:DAYLIGHT
BEGIN:STANDARD
TZOFFSETFROM:+0200
TZOFFSETTO:+0100
TZNAME:CET
DTSTART:20261025T010000
END:STANDARD
END:VTIMEZONE
BEGIN:VEVENT
DTSTART;VALUE=DATE:20250714
DTEND;VALUE=DATE:20250827
DTSTAMP:20260419T205915
CREATED:20180517T164159Z
LAST-MODIFIED:20240808T163035Z
UID:1604-1752451200-1756252799@rheinbabenschule-bottrop.de
SUMMARY:Sommerferien 2025
DESCRIPTION:
URL:https://rheinbabenschule-bottrop.de/event/1-schultag-nach-den-sommerferien-3/
END:VEVENT
BEGIN:VEVENT
DTSTART;TZID=Europe/Berlin:20250827T180000
DTEND;TZID=Europe/Berlin:20250827T190000
DTSTAMP:20260419T205915
CREATED:20240829T100126Z
LAST-MODIFIED:20250827T061010Z
UID:6097-1756317600-1756321200@rheinbabenschule-bottrop.de
SUMMARY:4a & 4b: Klassenpflegschaft
DESCRIPTION:
URL:https://rheinbabenschule-bottrop.de/event/4a-klassenpflegschaft/
END:VEVENT
BEGIN:VEVENT
DTSTART;TZID=Europe/Berlin:20250828T080000
DTEND;TZID=Europe/Berlin:20250828T104500
DTSTAMP:20260419T205915
CREATED:20240708T112607Z
LAST-MODIFIED:20250801T102019Z
UID:5886-1756368000-1756377900@rheinbabenschule-bottrop.de
SUMMARY:Einschulung der Erstklässler
DESCRIPTION:Bild von Thomas auf pixabay \nWir freuen uns\, heute unsere neuen Lernanfänger begrüßen zu dürfen. \nTagesplan:\n  \nab ca. 8:00 Uhr\nBegrüßung in der Gnadenkirche\nGladbeckerstraße 258\n  \nab ca. 9:15 Uhr\nEinschulungsfest auf dem Schulhof\n  \nab 10:00 Uhr\nDie erste Unterrichtsstunde\nbis ca. 10:45 Uhr.\n 
URL:https://rheinbabenschule-bottrop.de/event/einschulung-der-erstklaessler/
END:VEVENT
END:VCALENDAR