BEGIN:VCALENDAR
VERSION:2.0
PRODID:-//Rheinbabenschule - ECPv6.15.17.1//NONSGML v1.0//EN
CALSCALE:GREGORIAN
METHOD:PUBLISH
X-ORIGINAL-URL:https://rheinbabenschule-bottrop.de
X-WR-CALDESC:Veranstaltungen für Rheinbabenschule
REFRESH-INTERVAL;VALUE=DURATION:PT1H
X-Robots-Tag:noindex
X-PUBLISHED-TTL:PT1H
BEGIN:VTIMEZONE
TZID:Europe/Berlin
BEGIN:DAYLIGHT
TZOFFSETFROM:+0100
TZOFFSETTO:+0200
TZNAME:CEST
DTSTART:20240331T010000
END:DAYLIGHT
BEGIN:STANDARD
TZOFFSETFROM:+0200
TZOFFSETTO:+0100
TZNAME:CET
DTSTART:20241027T010000
END:STANDARD
BEGIN:DAYLIGHT
TZOFFSETFROM:+0100
TZOFFSETTO:+0200
TZNAME:CEST
DTSTART:20250330T010000
END:DAYLIGHT
BEGIN:STANDARD
TZOFFSETFROM:+0200
TZOFFSETTO:+0100
TZNAME:CET
DTSTART:20251026T010000
END:STANDARD
BEGIN:DAYLIGHT
TZOFFSETFROM:+0100
TZOFFSETTO:+0200
TZNAME:CEST
DTSTART:20260329T010000
END:DAYLIGHT
BEGIN:STANDARD
TZOFFSETFROM:+0200
TZOFFSETTO:+0100
TZNAME:CET
DTSTART:20261025T010000
END:STANDARD
END:VTIMEZONE
BEGIN:VEVENT
DTSTART;VALUE=DATE:20251003
DTEND;VALUE=DATE:20251005
DTSTAMP:20260419T175308
CREATED:20211130T071045Z
LAST-MODIFIED:20250801T124100Z
UID:3965-1759449600-1759622399@rheinbabenschule-bottrop.de
SUMMARY:schulfrei: Tag der Deutschen Einheit
DESCRIPTION:
URL:https://rheinbabenschule-bottrop.de/event/unterricht-bis-1130-uhr/
END:VEVENT
BEGIN:VEVENT
DTSTART;TZID=Europe/Berlin:20251008T163000
DTEND;TZID=Europe/Berlin:20251008T180000
DTSTAMP:20260419T175308
CREATED:20251002T163022Z
LAST-MODIFIED:20251002T163022Z
UID:6901-1759941000-1759946400@rheinbabenschule-bottrop.de
SUMMARY:Elternabend Bücherkoffer
DESCRIPTION:
URL:https://rheinbabenschule-bottrop.de/event/elternabend-buecherkoffer/
END:VEVENT
BEGIN:VEVENT
DTSTART;VALUE=DATE:20251013
DTEND;VALUE=DATE:20251027
DTSTAMP:20260419T175308
CREATED:20180517T162426Z
LAST-MODIFIED:20251007T090955Z
UID:1587-1760313600-1761523199@rheinbabenschule-bottrop.de
SUMMARY:Herbstferien 2025
DESCRIPTION:
URL:https://rheinbabenschule-bottrop.de/event/1-schultag-nach-den-herbstferien-2/
END:VEVENT
BEGIN:VEVENT
DTSTART;VALUE=DATE:20251028
DTEND;VALUE=DATE:20251029
DTSTAMP:20260419T175308
CREATED:20220929T111448Z
LAST-MODIFIED:20251010T102131Z
UID:3742-1761609600-1761695999@rheinbabenschule-bottrop.de
SUMMARY:Unterricht bis 09:30 Uhr; Einschulungsdiagnostik
DESCRIPTION:Liebe Eltern\, \nam Dienstag\, den 28.10.2025 findet an unserer Schule die diesjährige Einschulungsdiagnostik statt. \nDie Kinder aller Klassen haben dadurch an diesem Tag nur von 8:00-09:30 Uhr Unterricht. \nDie OGS-Kinder werden wie gewohnt in der OGS betreut.
URL:https://rheinbabenschule-bottrop.de/event/unterricht-bis-930-uhr/
END:VEVENT
BEGIN:VEVENT
DTSTART;VALUE=DATE:20251029
DTEND;VALUE=DATE:20251030
DTSTAMP:20260419T175308
CREATED:20220929T111819Z
LAST-MODIFIED:20251010T102355Z
UID:4648-1761696000-1761782399@rheinbabenschule-bottrop.de
SUMMARY:Unterricht bis 11:30 Uhr; Einschulungsdiagnostik
DESCRIPTION:Liebe Eltern\, \nam Mittwoch\, den 29.10.  findet an unserer Schule die diesjährige Einschulungsdiagnostik statt. \nDie Kinder aller Klassen haben dadurch an diesen Tagen nur von 8:00-11:30 Uhr Unterricht. \nDie OGS-Kinder werden wie gewohnt in der OGS betreut. 
URL:https://rheinbabenschule-bottrop.de/event/unterricht-bis-930-uhr-einschulungsdiagnostik/
END:VEVENT
END:VCALENDAR