BEGIN:VCALENDAR
VERSION:2.0
PRODID:-//Rheinbabenschule - ECPv6.15.17.1//NONSGML v1.0//EN
CALSCALE:GREGORIAN
METHOD:PUBLISH
X-WR-CALNAME:Rheinbabenschule
X-ORIGINAL-URL:https://rheinbabenschule-bottrop.de
X-WR-CALDESC:Veranstaltungen für Rheinbabenschule
REFRESH-INTERVAL;VALUE=DURATION:PT1H
X-Robots-Tag:noindex
X-PUBLISHED-TTL:PT1H
BEGIN:VTIMEZONE
TZID:Europe/Berlin
BEGIN:DAYLIGHT
TZOFFSETFROM:+0100
TZOFFSETTO:+0200
TZNAME:CEST
DTSTART:20240331T010000
END:DAYLIGHT
BEGIN:STANDARD
TZOFFSETFROM:+0200
TZOFFSETTO:+0100
TZNAME:CET
DTSTART:20241027T010000
END:STANDARD
BEGIN:DAYLIGHT
TZOFFSETFROM:+0100
TZOFFSETTO:+0200
TZNAME:CEST
DTSTART:20250330T010000
END:DAYLIGHT
BEGIN:STANDARD
TZOFFSETFROM:+0200
TZOFFSETTO:+0100
TZNAME:CET
DTSTART:20251026T010000
END:STANDARD
BEGIN:DAYLIGHT
TZOFFSETFROM:+0100
TZOFFSETTO:+0200
TZNAME:CEST
DTSTART:20260329T010000
END:DAYLIGHT
BEGIN:STANDARD
TZOFFSETFROM:+0200
TZOFFSETTO:+0100
TZNAME:CET
DTSTART:20261025T010000
END:STANDARD
END:VTIMEZONE
BEGIN:VEVENT
DTSTART;VALUE=DATE:20251104
DTEND;VALUE=DATE:20251105
DTSTAMP:20260419T161928
CREATED:20251010T102534Z
LAST-MODIFIED:20251010T102534Z
UID:6922-1762214400-1762300799@rheinbabenschule-bottrop.de
SUMMARY:Unterricht bis 11:30 Uhr: Einschulungsdiagnostik
DESCRIPTION:Liebe Eltern\, \nam Dienstag\, den 04.11.25  findet an unserer Schule die diesjährige Einschulungsdiagnostik statt. \nDie Kinder aller Klassen haben dadurch an diesen Tagen nur von 8:00-11:30 Uhr Unterricht. \nDie OGS-Kinder werden wie gewohnt in der OGS betreut. 
URL:https://rheinbabenschule-bottrop.de/event/unterricht-bis-1130-uhr-einschulungsdiagnostik/
END:VEVENT
BEGIN:VEVENT
DTSTART;VALUE=DATE:20251105
DTEND;VALUE=DATE:20251106
DTSTAMP:20260419T161928
CREATED:20251007T093925Z
LAST-MODIFIED:20251007T093925Z
UID:6912-1762300800-1762387199@rheinbabenschule-bottrop.de
SUMMARY:schulfrei: Pädagogischer Ganztag
DESCRIPTION:
URL:https://rheinbabenschule-bottrop.de/event/schulfrei-paedagogischer-ganztag/
END:VEVENT
BEGIN:VEVENT
DTSTART;VALUE=DATE:20251106
DTEND;VALUE=DATE:20251107
DTSTAMP:20260419T161928
CREATED:20251010T102652Z
LAST-MODIFIED:20251010T102652Z
UID:6924-1762387200-1762473599@rheinbabenschule-bottrop.de
SUMMARY:Unterricht bis 11:30 Uhr: Einschulungsdiagnostik
DESCRIPTION:Liebe Eltern\, \nam Donnerstag\, den 06.11.25  findet an unserer Schule die diesjährige Einschulungsdiagnostik statt. \nDie Kinder aller Klassen haben dadurch an diesen Tagen nur von 8:00-11:30 Uhr Unterricht. \nDie OGS-Kinder werden wie gewohnt in der OGS betreut. 
URL:https://rheinbabenschule-bottrop.de/event/unterricht-bis-1130-uhr-einschulungsdiagnostik-2/
END:VEVENT
BEGIN:VEVENT
DTSTART;VALUE=DATE:20251110
DTEND;VALUE=DATE:20251115
DTSTAMP:20260419T161928
CREATED:20220728T133731Z
LAST-MODIFIED:20250827T062915Z
UID:4441-1762732800-1763164799@rheinbabenschule-bottrop.de
SUMMARY:Elternsprechtage (Jahrgangsstufen 1-3)
DESCRIPTION:
URL:https://rheinbabenschule-bottrop.de/event/elternsprechtage-alle-jahrgangsstufen/
END:VEVENT
BEGIN:VEVENT
DTSTART;TZID=Europe/Berlin:20251120T160000
DTEND;TZID=Europe/Berlin:20251120T190000
DTSTAMP:20260419T161928
CREATED:20180517T165203Z
LAST-MODIFIED:20250801T123543Z
UID:1622-1763654400-1763665200@rheinbabenschule-bottrop.de
SUMMARY:Adventsbasar 2025
DESCRIPTION:Besuchen Sie uns und tauchen Sie ein\nin die vorweihnachtliche Zeit in der Rheinbabenschule.\n  \nJedes Jahr zur Adventszeit findet an unserer Schule ein Adventsbasar statt. \nIn gemütlicher Atmosphäre finden Sie an den Verkaufsständen kleine und größere Geschenkartikel sowie weihnachtliche Deko für Ihr Zuhause. Die Schule und der Schulhof werden zu diesem Zwecke stimmungsvoll beleuchtet. \n  \nWir bieten Mitmachaktionen für Groß und Klein und weihnachtliche Musik\, Tanz- und Theatervorstellungen. \nEine Cafeteria und diverse Essens- und Getränkestände sorgen für das leibliche Wohl. \n  \n  \nDer Adventsbasar findet \nam Donnerstag\, den 20. November 2025 von 16:00-19:00 Uhr statt. \nKommen Sie doch vorbei! Wir freuen uns auf Sie! \n  \n  \n 
URL:https://rheinbabenschule-bottrop.de/event/adventsbasar/
END:VEVENT
BEGIN:VEVENT
DTSTART;VALUE=DATE:20251121
DTEND;VALUE=DATE:20251122
DTSTAMP:20260419T161928
CREATED:20250826T100955Z
LAST-MODIFIED:20250826T100955Z
UID:6814-1763683200-1763769599@rheinbabenschule-bottrop.de
SUMMARY:Vorlesetag in der Rbs
DESCRIPTION:
URL:https://rheinbabenschule-bottrop.de/event/vorlesetag-in-der-rbs/
END:VEVENT
BEGIN:VEVENT
DTSTART;VALUE=DATE:20251124
DTEND;VALUE=DATE:20251129
DTSTAMP:20260419T161928
CREATED:20220520T190913Z
LAST-MODIFIED:20250827T063103Z
UID:4286-1763942400-1764374399@rheinbabenschule-bottrop.de
SUMMARY:Elternsprechtage (Klasse 4)
DESCRIPTION:
URL:https://rheinbabenschule-bottrop.de/event/elternsprechtage-klasse-4/
END:VEVENT
END:VCALENDAR